BEGIN:VCALENDAR
VERSION:2.0
PRODID:-// - ECPv6.15.13//NONSGML v1.0//EN
CALSCALE:GREGORIAN
METHOD:PUBLISH
X-ORIGINAL-URL:https://childrensdayton.org
X-WR-CALDESC:Events for 
REFRESH-INTERVAL;VALUE=DURATION:PT1H
X-Robots-Tag:noindex
X-PUBLISHED-TTL:PT1H
BEGIN:VTIMEZONE
TZID:America/Indiana/Indianapolis
BEGIN:DAYLIGHT
TZOFFSETFROM:-0500
TZOFFSETTO:-0400
TZNAME:EDT
DTSTART:20250309T070000
END:DAYLIGHT
BEGIN:STANDARD
TZOFFSETFROM:-0400
TZOFFSETTO:-0500
TZNAME:EST
DTSTART:20251102T060000
END:STANDARD
BEGIN:DAYLIGHT
TZOFFSETFROM:-0500
TZOFFSETTO:-0400
TZNAME:EDT
DTSTART:20260308T070000
END:DAYLIGHT
BEGIN:STANDARD
TZOFFSETFROM:-0400
TZOFFSETTO:-0500
TZNAME:EST
DTSTART:20261101T060000
END:STANDARD
BEGIN:DAYLIGHT
TZOFFSETFROM:-0500
TZOFFSETTO:-0400
TZNAME:EDT
DTSTART:20270314T070000
END:DAYLIGHT
BEGIN:STANDARD
TZOFFSETFROM:-0400
TZOFFSETTO:-0500
TZNAME:EST
DTSTART:20271107T060000
END:STANDARD
END:VTIMEZONE
BEGIN:VEVENT
DTSTART;TZID=America/Indiana/Indianapolis:20260507T120000
DTEND;TZID=America/Indiana/Indianapolis:20260507T130000
DTSTAMP:20260422T013423
CREATED:20260304T024341Z
LAST-MODIFIED:20260304T032115Z
UID:10000025-1778155200-1778158800@childrensdayton.org
SUMMARY:psychiatry office hours for healthcare professionals
DESCRIPTION:Psychiatry office hours are structured with the intention to support communal conversation\, all the while educating on real scenarios within the mental health field. \n\n\n\nInspired by the ECHO model but intentionally structured for a 15-minute lesson on varying topics\, with the remaining time to debrief and share insights! This interactive session allows providers to engage in open dialogue with psychiatric specialists and other providers in their area. No slide decks. No rigid format. Just meaningful conversation\, collaborative learning\, and expert consultation tailored to the needs of attendees. Come with questions. Leave with clarity. \n\n\n\nUpcoming virtual seminar discussion topics include: \n\n\n\n\n(March 5) Psychiatry Office Hours: screening for suicide in the office\n\n\n\n(March 19) Psychiatry Office Hours: suicidal thoughts – when to safety plan and when to send your patient for further evaluation\n\n\n\n(April 9) Psychiatry Office Hours: What happens when a patient is admitted?\n\n\n\n(April 16) Psychiatry Office Hours: treatment planning for depression\n\n\n\n(May 7) Psychiatry Office Hours: starting an SSRI\n\n\n\n(May 14) Psychiatry Office Hours: next steps for starting an SSRI\n\n\n\n\nRegister today to receive the meeting invitation and link to join virtually. \n\n\n\n\nregister for psychiatry office hours\n\n\n\n\n\nHosted by:
URL:https://childrensdayton.org/event/psychiatry-office-hours-for-healthcare-professionals/2026-05-07/
LOCATION:Virtual
CATEGORIES:healthcare professionals
END:VEVENT
BEGIN:VEVENT
DTSTART;TZID=America/Indiana/Indianapolis:20260514T120000
DTEND;TZID=America/Indiana/Indianapolis:20260514T130000
DTSTAMP:20260422T013424
CREATED:20260304T024341Z
LAST-MODIFIED:20260304T032115Z
UID:10000032-1778760000-1778763600@childrensdayton.org
SUMMARY:psychiatry office hours for healthcare professionals
DESCRIPTION:Psychiatry office hours are structured with the intention to support communal conversation\, all the while educating on real scenarios within the mental health field. \n\n\n\nInspired by the ECHO model but intentionally structured for a 15-minute lesson on varying topics\, with the remaining time to debrief and share insights! This interactive session allows providers to engage in open dialogue with psychiatric specialists and other providers in their area. No slide decks. No rigid format. Just meaningful conversation\, collaborative learning\, and expert consultation tailored to the needs of attendees. Come with questions. Leave with clarity. \n\n\n\nUpcoming virtual seminar discussion topics include: \n\n\n\n\n(March 5) Psychiatry Office Hours: screening for suicide in the office\n\n\n\n(March 19) Psychiatry Office Hours: suicidal thoughts – when to safety plan and when to send your patient for further evaluation\n\n\n\n(April 9) Psychiatry Office Hours: What happens when a patient is admitted?\n\n\n\n(April 16) Psychiatry Office Hours: treatment planning for depression\n\n\n\n(May 7) Psychiatry Office Hours: starting an SSRI\n\n\n\n(May 14) Psychiatry Office Hours: next steps for starting an SSRI\n\n\n\n\nRegister today to receive the meeting invitation and link to join virtually. \n\n\n\n\nregister for psychiatry office hours\n\n\n\n\n\nHosted by:
URL:https://childrensdayton.org/event/psychiatry-office-hours-for-healthcare-professionals/2026-05-14/
LOCATION:Virtual
CATEGORIES:healthcare professionals
END:VEVENT
END:VCALENDAR