BEGIN:VCALENDAR
VERSION:2.0
PRODID:-// - ECPv6.15.13//NONSGML v1.0//EN
CALSCALE:GREGORIAN
METHOD:PUBLISH
X-ORIGINAL-URL:https://childrensdayton.org
X-WR-CALDESC:Events for 
REFRESH-INTERVAL;VALUE=DURATION:PT1H
X-Robots-Tag:noindex
X-PUBLISHED-TTL:PT1H
BEGIN:VTIMEZONE
TZID:America/Indiana/Indianapolis
BEGIN:DAYLIGHT
TZOFFSETFROM:-0500
TZOFFSETTO:-0400
TZNAME:EDT
DTSTART:20250309T070000
END:DAYLIGHT
BEGIN:STANDARD
TZOFFSETFROM:-0400
TZOFFSETTO:-0500
TZNAME:EST
DTSTART:20251102T060000
END:STANDARD
BEGIN:DAYLIGHT
TZOFFSETFROM:-0500
TZOFFSETTO:-0400
TZNAME:EDT
DTSTART:20260308T070000
END:DAYLIGHT
BEGIN:STANDARD
TZOFFSETFROM:-0400
TZOFFSETTO:-0500
TZNAME:EST
DTSTART:20261101T060000
END:STANDARD
BEGIN:DAYLIGHT
TZOFFSETFROM:-0500
TZOFFSETTO:-0400
TZNAME:EDT
DTSTART:20270314T070000
END:DAYLIGHT
BEGIN:STANDARD
TZOFFSETFROM:-0400
TZOFFSETTO:-0500
TZNAME:EST
DTSTART:20271107T060000
END:STANDARD
END:VTIMEZONE
BEGIN:VEVENT
DTSTART;TZID=America/Indiana/Indianapolis:20260422T120000
DTEND;TZID=America/Indiana/Indianapolis:20260422T130000
DTSTAMP:20260420T104018
CREATED:20260407T193718Z
LAST-MODIFIED:20260407T195054Z
UID:10000041-1776859200-1776862800@childrensdayton.org
SUMMARY:grand rounds
DESCRIPTION:Pediatric grand rounds at Dayton Children’s feature expert-led presentations across a wide range of specialties. Sessions may cover advances in research\, complex cases or practical strategies that support high-quality patient care. By participating\, you’ll hear from leaders in the field and gain insights that can strengthen your practice.  \n\n\n\nAccredited CME details\, including session objections and credit information\, will be provided for each presentation. For past sessions and more details about grand rounds at Dayton Children’s\, visit here. \n\n\n\n\nHosted by:
URL:https://childrensdayton.org/event/grand-rounds/2026-04-22/
LOCATION:Kogut Auditorium\, Dayton Children’s – main campus\, 1 Childrens Plaza\, Dayton\, OH\, 45404\, United States
CATEGORIES:grand rounds,healthcare professionals
END:VEVENT
BEGIN:VEVENT
DTSTART;TZID=America/Indiana/Indianapolis:20260429T120000
DTEND;TZID=America/Indiana/Indianapolis:20260429T130000
DTSTAMP:20260420T104018
CREATED:20260407T193718Z
LAST-MODIFIED:20260407T195054Z
UID:10000042-1777464000-1777467600@childrensdayton.org
SUMMARY:grand rounds
DESCRIPTION:Pediatric grand rounds at Dayton Children’s feature expert-led presentations across a wide range of specialties. Sessions may cover advances in research\, complex cases or practical strategies that support high-quality patient care. By participating\, you’ll hear from leaders in the field and gain insights that can strengthen your practice.  \n\n\n\nAccredited CME details\, including session objections and credit information\, will be provided for each presentation. For past sessions and more details about grand rounds at Dayton Children’s\, visit here. \n\n\n\n\nHosted by:
URL:https://childrensdayton.org/event/grand-rounds/2026-04-29/
LOCATION:Kogut Auditorium\, Dayton Children’s – main campus\, 1 Childrens Plaza\, Dayton\, OH\, 45404\, United States
CATEGORIES:grand rounds,healthcare professionals
END:VEVENT
END:VCALENDAR